Package: epidecodeR Version: 1.19.0 Command: /Library/Frameworks/R.framework/Resources/bin/R CMD build --keep-empty-dirs --no-resave-data epidecodeR StartedAt: 2025-11-19 16:18:22 -0500 (Wed, 19 Nov 2025) EndedAt: 2025-11-19 16:18:43 -0500 (Wed, 19 Nov 2025) EllapsedTime: 21.2 seconds RetCode: 0 Status: OK PackageFile: epidecodeR_1.19.0.tar.gz PackageFileSize: 2.066 MiB