Package: epidecodeR Version: 1.19.0 Command: /Library/Frameworks/R.framework/Resources/bin/R CMD build --keep-empty-dirs --no-resave-data epidecodeR StartedAt: 2025-11-19 16:57:33 -0500 (Wed, 19 Nov 2025) EndedAt: 2025-11-19 16:58:40 -0500 (Wed, 19 Nov 2025) EllapsedTime: 66.4 seconds RetCode: 0 Status: OK PackageFile: epidecodeR_1.19.0.tar.gz PackageFileSize: 2.064 MiB