Package: epidecodeR Version: 1.19.0 Command: /Library/Frameworks/R.framework/Resources/bin/R CMD INSTALL epidecodeR StartedAt: 2025-11-19 15:35:22 -0500 (Wed, 19 Nov 2025) EndedAt: 2025-11-19 15:36:08 -0500 (Wed, 19 Nov 2025) EllapsedTime: 46.1 seconds RetCode: 0 Status: OK