Package: flowAI Version: 1.41.0 Command: /Library/Frameworks/R.framework/Resources/bin/R CMD INSTALL flowAI StartedAt: 2025-11-19 15:09:11 -0500 (Wed, 19 Nov 2025) EndedAt: 2025-11-19 15:09:16 -0500 (Wed, 19 Nov 2025) EllapsedTime: 4.2 seconds RetCode: 0 Status: OK