Package: flowCore Version: 2.23.0 Command: /Library/Frameworks/R.framework/Resources/bin/R CMD build --keep-empty-dirs --no-resave-data flowCore StartedAt: 2025-11-19 16:23:21 -0500 (Wed, 19 Nov 2025) EndedAt: 2025-11-19 16:23:52 -0500 (Wed, 19 Nov 2025) EllapsedTime: 31.3 seconds RetCode: 0 Status: OK PackageFile: flowCore_2.23.0.tar.gz PackageFileSize: 7.451 MiB