Package: flowCore Version: 2.23.0 Command: /Library/Frameworks/R.framework/Resources/bin/R CMD INSTALL flowCore StartedAt: 2025-11-19 15:08:47 -0500 (Wed, 19 Nov 2025) EndedAt: 2025-11-19 15:09:00 -0500 (Wed, 19 Nov 2025) EllapsedTime: 13.5 seconds RetCode: 0 Status: OK