Package: flowCore Version: 2.23.0 Command: /Library/Frameworks/R.framework/Resources/bin/R CMD build --keep-empty-dirs --no-resave-data flowCore StartedAt: 2025-11-26 17:01:20 -0500 (Wed, 26 Nov 2025) EndedAt: 2025-11-26 17:03:00 -0500 (Wed, 26 Nov 2025) EllapsedTime: 100.6 seconds RetCode: 0 Status: OK PackageFile: flowCore_2.23.0.tar.gz PackageFileSize: 7.449 MiB