Package: flowCore Version: 2.23.0 Command: /Library/Frameworks/R.framework/Resources/bin/R CMD INSTALL flowCore StartedAt: 2025-11-24 15:19:40 -0500 (Mon, 24 Nov 2025) EndedAt: 2025-11-24 15:20:38 -0500 (Mon, 24 Nov 2025) EllapsedTime: 58.9 seconds RetCode: 0 Status: OK