Package: flowGraph Version: 1.19.0 Command: rm -rf flowGraph.buildbin-libdir && mkdir flowGraph.buildbin-libdir && /Users/biocbuild/BBS/utils/build-universal.sh flowGraph_1.19.0.tar.gz /Library/Frameworks/R.framework/Resources/bin/R flowGraph.buildbin-libdir StartedAt: 2025-11-21 23:32:29 -0500 (Fri, 21 Nov 2025) EndedAt: 2025-11-21 23:32:36 -0500 (Fri, 21 Nov 2025) EllapsedTime: 7.1 seconds RetCode: 0 Status: OK PackageFile: flowGraph_1.19.0.tgz PackageFileSize: 2.601 MiB