Package: flowWorkspace Version: 4.23.0 Command: /Library/Frameworks/R.framework/Resources/bin/R CMD build --keep-empty-dirs --no-resave-data flowWorkspace StartedAt: 2025-11-19 16:24:19 -0500 (Wed, 19 Nov 2025) EndedAt: 2025-11-19 16:25:10 -0500 (Wed, 19 Nov 2025) EllapsedTime: 51.6 seconds RetCode: 0 Status: OK PackageFile: flowWorkspace_4.23.0.tar.gz PackageFileSize: 5.704 MiB