Package: flowWorkspace Version: 4.23.0 Command: rm -rf flowWorkspace.buildbin-libdir && mkdir flowWorkspace.buildbin-libdir && /Users/biocbuild/BBS/utils/build-universal.sh flowWorkspace_4.23.0.tar.gz /Library/Frameworks/R.framework/Resources/bin/R flowWorkspace.buildbin-libdir StartedAt: 2025-11-20 01:33:48 -0500 (Thu, 20 Nov 2025) EndedAt: 2025-11-20 01:36:20 -0500 (Thu, 20 Nov 2025) EllapsedTime: 152.7 seconds RetCode: 0 Status: OK PackageFile: flowWorkspace_4.23.0.tgz PackageFileSize: 6.222 MiB