Package: flowWorkspace Version: 4.23.0 Command: /Library/Frameworks/R.framework/Resources/bin/R CMD build --keep-empty-dirs --no-resave-data flowWorkspace StartedAt: 2025-11-19 17:04:05 -0500 (Wed, 19 Nov 2025) EndedAt: 2025-11-19 17:06:46 -0500 (Wed, 19 Nov 2025) EllapsedTime: 160.3 seconds RetCode: 0 Status: OK PackageFile: flowWorkspace_4.23.0.tar.gz PackageFileSize: 5.701 MiB