Package: flowWorkspace Version: 4.23.0 Command: /Library/Frameworks/R.framework/Resources/bin/R CMD INSTALL flowWorkspace StartedAt: 2025-11-18 15:25:53 -0500 (Tue, 18 Nov 2025) EndedAt: 2025-11-18 15:28:13 -0500 (Tue, 18 Nov 2025) EllapsedTime: 139.7 seconds RetCode: 0 Status: OK