Package: flowWorkspace Version: 4.23.0 Command: /home/biocbuild/bbs-3.23-bioc/R/bin/R CMD build --keep-empty-dirs --no-resave-data flowWorkspace StartedAt: 2025-11-19 17:43:14 -0500 (Wed, 19 Nov 2025) EndedAt: 2025-11-19 17:46:01 -0500 (Wed, 19 Nov 2025) EllapsedTime: 166.2 seconds RetCode: 0 Status: OK PackageFile: flowWorkspace_4.23.0.tar.gz PackageFileSize: 5.082 MiB