Package: flowWorkspace Version: 4.23.0 Command: /home/biocbuild/bbs-3.23-bioc/R/bin/R CMD INSTALL flowWorkspace StartedAt: 2025-11-18 16:09:18 -0500 (Tue, 18 Nov 2025) EndedAt: 2025-11-18 16:11:30 -0500 (Tue, 18 Nov 2025) EllapsedTime: 132.7 seconds RetCode: 0 Status: OK