Package: geNetClassifier Version: 1.51.0 Command: /Library/Frameworks/R.framework/Resources/bin/R CMD build --keep-empty-dirs --no-resave-data geNetClassifier StartedAt: 2025-11-18 16:37:05 -0500 (Tue, 18 Nov 2025) EndedAt: 2025-11-18 16:37:15 -0500 (Tue, 18 Nov 2025) EllapsedTime: 9.1 seconds RetCode: 0 Status: OK PackageFile: geNetClassifier_1.51.0.tar.gz PackageFileSize: 3.94 MiB