Package: geNetClassifier Version: 1.51.0 Command: /Library/Frameworks/R.framework/Resources/bin/R CMD INSTALL geNetClassifier StartedAt: 2025-11-18 15:41:13 -0500 (Tue, 18 Nov 2025) EndedAt: 2025-11-18 15:41:17 -0500 (Tue, 18 Nov 2025) EllapsedTime: 4.1 seconds RetCode: 0 Status: OK