Package: geNetClassifier Version: 1.51.0 Command: /Library/Frameworks/R.framework/Resources/bin/R CMD build --keep-empty-dirs --no-resave-data geNetClassifier StartedAt: 2025-11-18 17:04:03 -0500 (Tue, 18 Nov 2025) EndedAt: 2025-11-18 17:04:26 -0500 (Tue, 18 Nov 2025) EllapsedTime: 22.8 seconds RetCode: 0 Status: OK PackageFile: geNetClassifier_1.51.0.tar.gz PackageFileSize: 3.936 MiB