Package: geNetClassifier Version: 1.51.0 Command: /Library/Frameworks/R.framework/Resources/bin/R CMD INSTALL geNetClassifier StartedAt: 2025-11-18 15:20:01 -0500 (Tue, 18 Nov 2025) EndedAt: 2025-11-18 15:20:15 -0500 (Tue, 18 Nov 2025) EllapsedTime: 13.4 seconds RetCode: 0 Status: OK