Package: geNetClassifier Version: 1.51.0 Command: /home/biocbuild/bbs-3.23-bioc/R/bin/R CMD INSTALL geNetClassifier StartedAt: 2025-11-18 16:50:43 -0500 (Tue, 18 Nov 2025) EndedAt: 2025-11-18 16:50:52 -0500 (Tue, 18 Nov 2025) EllapsedTime: 8.2 seconds RetCode: 0 Status: OK