Package: gemma.R Version: 3.7.0 Command: rm -rf gemma.R.buildbin-libdir && mkdir gemma.R.buildbin-libdir && /Users/biocbuild/BBS/utils/build-universal.sh gemma.R_3.7.0.tar.gz /Library/Frameworks/R.framework/Resources/bin/R gemma.R.buildbin-libdir StartedAt: 2025-11-19 23:35:06 -0500 (Wed, 19 Nov 2025) EndedAt: 2025-11-19 23:35:12 -0500 (Wed, 19 Nov 2025) EllapsedTime: 6.1 seconds RetCode: 0 Status: OK PackageFile: gemma.R_3.7.0.tgz PackageFileSize: 2.366 MiB