Package: gemma.R Version: 3.7.0 Command: /Library/Frameworks/R.framework/Resources/bin/R CMD build --keep-empty-dirs --no-resave-data gemma.R StartedAt: 2025-11-19 16:26:29 -0500 (Wed, 19 Nov 2025) EndedAt: 2025-11-19 16:30:04 -0500 (Wed, 19 Nov 2025) EllapsedTime: 214.3 seconds RetCode: 0 Status: OK PackageFile: gemma.R_3.7.0.tar.gz PackageFileSize: 2.148 MiB