Package: gemma.R Version: 3.7.0 Command: /Library/Frameworks/R.framework/Resources/bin/R CMD INSTALL gemma.R StartedAt: 2025-11-19 15:13:19 -0500 (Wed, 19 Nov 2025) EndedAt: 2025-11-19 15:13:21 -0500 (Wed, 19 Nov 2025) EllapsedTime: 2.1 seconds RetCode: 0 Status: OK