Package: gemma.R Version: 3.7.0 Command: rm -rf gemma.R.buildbin-libdir && mkdir gemma.R.buildbin-libdir && /Users/biocbuild/BBS/utils/build-universal.sh gemma.R_3.7.0.tar.gz /Library/Frameworks/R.framework/Resources/bin/R gemma.R.buildbin-libdir StartedAt: 2025-11-24 01:36:59 -0500 (Mon, 24 Nov 2025) EndedAt: 2025-11-24 01:37:11 -0500 (Mon, 24 Nov 2025) EllapsedTime: 12.5 seconds RetCode: 0 Status: OK PackageFile: gemma.R_3.7.0.tgz PackageFileSize: 2.361 MiB