Package: gemma.R Version: 3.7.0 Command: /Library/Frameworks/R.framework/Resources/bin/R CMD build --keep-empty-dirs --no-resave-data gemma.R StartedAt: 2025-11-21 17:05:34 -0500 (Fri, 21 Nov 2025) EndedAt: 2025-11-21 17:10:17 -0500 (Fri, 21 Nov 2025) EllapsedTime: 282.8 seconds RetCode: 0 Status: OK PackageFile: gemma.R_3.7.0.tar.gz PackageFileSize: 2.147 MiB