Package: gemma.R Version: 3.7.0 Command: /Library/Frameworks/R.framework/Resources/bin/R CMD INSTALL gemma.R StartedAt: 2025-11-21 15:24:32 -0500 (Fri, 21 Nov 2025) EndedAt: 2025-11-21 15:24:41 -0500 (Fri, 21 Nov 2025) EllapsedTime: 8.5 seconds RetCode: 0 Status: OK