Package: ggtree Version: 4.1.1 Command: /Library/Frameworks/R.framework/Resources/bin/R CMD build --keep-empty-dirs --no-resave-data ggtree StartedAt: 2025-11-19 16:31:00 -0500 (Wed, 19 Nov 2025) EndedAt: 2025-11-19 16:31:06 -0500 (Wed, 19 Nov 2025) EllapsedTime: 6.1 seconds RetCode: 0 Status: OK PackageFile: ggtree_4.1.1.tar.gz PackageFileSize: 355.9 KiB