Package: ggtree Version: 4.1.1 Command: /Library/Frameworks/R.framework/Resources/bin/R CMD INSTALL ggtree StartedAt: 2025-11-19 15:07:32 -0500 (Wed, 19 Nov 2025) EndedAt: 2025-11-19 15:07:37 -0500 (Wed, 19 Nov 2025) EllapsedTime: 5.2 seconds RetCode: 0 Status: OK