Package: ggtree Version: 4.1.1 Command: /Library/Frameworks/R.framework/Resources/bin/R CMD INSTALL ggtree StartedAt: 2025-11-19 15:18:21 -0500 (Wed, 19 Nov 2025) EndedAt: 2025-11-19 15:18:52 -0500 (Wed, 19 Nov 2025) EllapsedTime: 30.5 seconds RetCode: 0 Status: OK