Package: ggtree Version: 4.1.1 Command: /home/biocbuild/bbs-3.23-bioc/R/bin/R CMD INSTALL ggtree StartedAt: 2025-11-19 15:13:50 -0500 (Wed, 19 Nov 2025) EndedAt: 2025-11-19 15:14:02 -0500 (Wed, 19 Nov 2025) EllapsedTime: 11.8 seconds RetCode: 0 Status: OK