Package: glmSparseNet Version: 1.29.0 Command: rm -rf glmSparseNet.buildbin-libdir && mkdir glmSparseNet.buildbin-libdir && /Users/biocbuild/BBS/utils/build-universal.sh glmSparseNet_1.29.0.tar.gz /Library/Frameworks/R.framework/Resources/bin/R glmSparseNet.buildbin-libdir StartedAt: 2025-11-19 23:36:22 -0500 (Wed, 19 Nov 2025) EndedAt: 2025-11-19 23:36:25 -0500 (Wed, 19 Nov 2025) EllapsedTime: 3.1 seconds RetCode: 0 Status: OK PackageFile: glmSparseNet_1.29.0.tgz PackageFileSize: 2.901 MiB