Package: glmSparseNet Version: 1.29.0 Command: /Library/Frameworks/R.framework/Resources/bin/R CMD build --keep-empty-dirs --no-resave-data glmSparseNet StartedAt: 2025-11-18 16:41:07 -0500 (Tue, 18 Nov 2025) EndedAt: 2025-11-18 16:42:53 -0500 (Tue, 18 Nov 2025) EllapsedTime: 106.1 seconds RetCode: 0 Status: OK PackageFile: glmSparseNet_1.29.0.tar.gz PackageFileSize: 2.796 MiB