Package: glmSparseNet Version: 1.29.0 Command: /Library/Frameworks/R.framework/Resources/bin/R CMD INSTALL glmSparseNet StartedAt: 2025-11-18 15:33:19 -0500 (Tue, 18 Nov 2025) EndedAt: 2025-11-18 15:33:22 -0500 (Tue, 18 Nov 2025) EllapsedTime: 2.5 seconds RetCode: 0 Status: OK