Package: glmSparseNet Version: 1.29.0 Command: /Library/Frameworks/R.framework/Resources/bin/R CMD build --keep-empty-dirs --no-resave-data glmSparseNet StartedAt: 2025-11-19 17:11:51 -0500 (Wed, 19 Nov 2025) EndedAt: 2025-11-19 17:16:03 -0500 (Wed, 19 Nov 2025) EllapsedTime: 252.7 seconds RetCode: 0 Status: OK PackageFile: glmSparseNet_1.29.0.tar.gz PackageFileSize: 2.797 MiB