Package: glmSparseNet Version: 1.29.0 Command: /Library/Frameworks/R.framework/Resources/bin/R CMD INSTALL glmSparseNet StartedAt: 2025-11-18 15:42:04 -0500 (Tue, 18 Nov 2025) EndedAt: 2025-11-18 15:42:10 -0500 (Tue, 18 Nov 2025) EllapsedTime: 6.0 seconds RetCode: 0 Status: OK