Package: glmSparseNet Version: 1.29.0 Command: /home/biocbuild/bbs-3.23-bioc/R/bin/R CMD build --keep-empty-dirs --no-resave-data glmSparseNet StartedAt: 2025-11-18 18:43:07 -0500 (Tue, 18 Nov 2025) EndedAt: 2025-11-18 18:46:54 -0500 (Tue, 18 Nov 2025) EllapsedTime: 226.9 seconds RetCode: 0 Status: OK PackageFile: glmSparseNet_1.29.0.tar.gz PackageFileSize: 2.817 MiB