Package: glmSparseNet Version: 1.29.0 Command: /home/biocbuild/bbs-3.23-bioc/R/bin/R CMD INSTALL glmSparseNet StartedAt: 2025-11-18 16:35:58 -0500 (Tue, 18 Nov 2025) EndedAt: 2025-11-18 16:36:01 -0500 (Tue, 18 Nov 2025) EllapsedTime: 3.3 seconds RetCode: 0 Status: OK