Package: gpls Version: 1.83.0 Command: /Library/Frameworks/R.framework/Resources/bin/R CMD INSTALL gpls StartedAt: 2025-11-19 15:03:07 -0500 (Wed, 19 Nov 2025) EndedAt: 2025-11-19 15:03:09 -0500 (Wed, 19 Nov 2025) EllapsedTime: 1.8 seconds RetCode: 0 Status: OK