Package: gpls Version: 1.83.0 Command: /Library/Frameworks/R.framework/Resources/bin/R CMD INSTALL gpls StartedAt: 2025-11-26 15:10:01 -0500 (Wed, 26 Nov 2025) EndedAt: 2025-11-26 15:10:13 -0500 (Wed, 26 Nov 2025) EllapsedTime: 12.5 seconds RetCode: 0 Status: OK