Package: hyperdraw Version: 1.63.0 Command: /Library/Frameworks/R.framework/Resources/bin/R CMD build --keep-empty-dirs --no-resave-data hyperdraw StartedAt: 2025-11-18 16:51:00 -0500 (Tue, 18 Nov 2025) EndedAt: 2025-11-18 16:51:07 -0500 (Tue, 18 Nov 2025) EllapsedTime: 6.1 seconds RetCode: 0 Status: OK PackageFile: hyperdraw_1.63.0.tar.gz PackageFileSize: 204.4 KiB