Package: hypergraph Version: 1.83.0 Command: /Library/Frameworks/R.framework/Resources/bin/R CMD INSTALL hypergraph StartedAt: 2025-11-19 15:09:16 -0500 (Wed, 19 Nov 2025) EndedAt: 2025-11-19 15:09:20 -0500 (Wed, 19 Nov 2025) EllapsedTime: 4.1 seconds RetCode: 0 Status: OK