Package: hypergraph Version: 1.83.0 Command: rm -rf hypergraph.buildbin-libdir && mkdir hypergraph.buildbin-libdir && /Users/biocbuild/BBS/utils/build-universal.sh hypergraph_1.83.0.tar.gz /Library/Frameworks/R.framework/Resources/bin/R hypergraph.buildbin-libdir StartedAt: 2025-11-19 01:33:49 -0500 (Wed, 19 Nov 2025) EndedAt: 2025-11-19 01:34:01 -0500 (Wed, 19 Nov 2025) EllapsedTime: 11.8 seconds RetCode: 0 Status: OK PackageFile: hypergraph_1.83.0.tgz PackageFileSize: 168.8 KiB