Package: hypergraph Version: 1.83.0 Command: /Library/Frameworks/R.framework/Resources/bin/R CMD build --keep-empty-dirs --no-resave-data hypergraph StartedAt: 2025-11-18 17:19:45 -0500 (Tue, 18 Nov 2025) EndedAt: 2025-11-18 17:19:47 -0500 (Tue, 18 Nov 2025) EllapsedTime: 1.1 seconds RetCode: 0 Status: OK PackageFile: hypergraph_1.83.0.tar.gz PackageFileSize: 8.27 KiB