Package: hypergraph Version: 1.83.0 Command: /Library/Frameworks/R.framework/Resources/bin/R CMD INSTALL hypergraph StartedAt: 2025-11-18 15:19:08 -0500 (Tue, 18 Nov 2025) EndedAt: 2025-11-18 15:19:16 -0500 (Tue, 18 Nov 2025) EllapsedTime: 7.5 seconds RetCode: 0 Status: OK