Package: hypergraph Version: 1.83.0 Command: /home/biocbuild/bbs-3.23-bioc/R/bin/R CMD INSTALL hypergraph StartedAt: 2025-11-19 15:16:53 -0500 (Wed, 19 Nov 2025) EndedAt: 2025-11-19 15:16:57 -0500 (Wed, 19 Nov 2025) EllapsedTime: 4.6 seconds RetCode: 0 Status: OK