Package: iClusterPlus Version: 1.47.0 Command: /Library/Frameworks/R.framework/Resources/bin/R CMD INSTALL iClusterPlus StartedAt: 2025-11-18 15:12:01 -0500 (Tue, 18 Nov 2025) EndedAt: 2025-11-18 15:12:15 -0500 (Tue, 18 Nov 2025) EllapsedTime: 13.6 seconds RetCode: 0 Status: OK