Package: iClusterPlus Version: 1.47.0 Command: /Library/Frameworks/R.framework/Resources/bin/R CMD INSTALL iClusterPlus StartedAt: 2025-11-24 15:10:04 -0500 (Mon, 24 Nov 2025) EndedAt: 2025-11-24 15:11:16 -0500 (Mon, 24 Nov 2025) EllapsedTime: 71.7 seconds RetCode: 0 Status: OK