Package: iSEEtree Version: 1.5.0 Maintainer: Giulio Benedetti MaintainerEmail: giulio.benedetti at utu.fi git_url: https://git.bioconductor.org/packages/iSEEtree git_branch: devel git_last_commit: 63da959 git_last_commit_date: 2025-10-29 11:31:13 -0500 (Wed, 29 Oct 2025)