Package: iSEEtree Version: 1.5.0 Command: rm -rf iSEEtree.buildbin-libdir && mkdir iSEEtree.buildbin-libdir && /Users/biocbuild/BBS/utils/build-universal.sh iSEEtree_1.5.0.tar.gz /Library/Frameworks/R.framework/Resources/bin/R iSEEtree.buildbin-libdir StartedAt: 2025-11-19 23:38:46 -0500 (Wed, 19 Nov 2025) EndedAt: 2025-11-19 23:39:11 -0500 (Wed, 19 Nov 2025) EllapsedTime: 24.6 seconds RetCode: 0 Status: OK PackageFile: iSEEtree_1.5.0.tgz PackageFileSize: 4.527 MiB