Package: iSEEtree Version: 1.5.0 Command: /Library/Frameworks/R.framework/Resources/bin/R CMD INSTALL iSEEtree StartedAt: 2025-11-20 15:53:46 -0500 (Thu, 20 Nov 2025) EndedAt: 2025-11-20 15:54:53 -0500 (Thu, 20 Nov 2025) EllapsedTime: 66.7 seconds RetCode: 0 Status: OK